BEGIN:VCALENDAR
VERSION:2.0
PRODID:-//Bushkill Stream Conservancy - ECPv6.15.20//NONSGML v1.0//EN
CALSCALE:GREGORIAN
METHOD:PUBLISH
X-WR-CALNAME:Bushkill Stream Conservancy
X-ORIGINAL-URL:https://bushkill.org
X-WR-CALDESC:Events for Bushkill Stream Conservancy
REFRESH-INTERVAL;VALUE=DURATION:PT1H
X-Robots-Tag:noindex
X-PUBLISHED-TTL:PT1H
BEGIN:VTIMEZONE
TZID:America/New_York
BEGIN:DAYLIGHT
TZOFFSETFROM:-0500
TZOFFSETTO:-0400
TZNAME:EDT
DTSTART:20250309T070000
END:DAYLIGHT
BEGIN:STANDARD
TZOFFSETFROM:-0400
TZOFFSETTO:-0500
TZNAME:EST
DTSTART:20251102T060000
END:STANDARD
BEGIN:DAYLIGHT
TZOFFSETFROM:-0500
TZOFFSETTO:-0400
TZNAME:EDT
DTSTART:20260308T070000
END:DAYLIGHT
BEGIN:STANDARD
TZOFFSETFROM:-0400
TZOFFSETTO:-0500
TZNAME:EST
DTSTART:20261101T060000
END:STANDARD
BEGIN:DAYLIGHT
TZOFFSETFROM:-0500
TZOFFSETTO:-0400
TZNAME:EDT
DTSTART:20270314T070000
END:DAYLIGHT
BEGIN:STANDARD
TZOFFSETFROM:-0400
TZOFFSETTO:-0500
TZNAME:EST
DTSTART:20271107T060000
END:STANDARD
END:VTIMEZONE
BEGIN:VEVENT
DTSTART;TZID=America/New_York:20260425T110000
DTEND;TZID=America/New_York:20260425T140000
DTSTAMP:20260423T045501
CREATED:20260324T001426Z
LAST-MODIFIED:20260324T002346Z
UID:5222-1777114800-1777125600@bushkill.org
SUMMARY:Arbor Fest
DESCRIPTION:
URL:https://bushkill.org/event/arbor-fest/
LOCATION:Lower Hackett Park Micro-Forest\, 1913 Wood Avenue\, Easton\, PA\, 18042\, United States
ATTACH;FMTTYPE=image/png:https://bushkill.org/wp-content/uploads/2026/03/arbor-fest.png
END:VEVENT
BEGIN:VEVENT
DTSTART;VALUE=DATE:20260721
DTEND;VALUE=DATE:20260726
DTSTAMP:20260423T045501
CREATED:20260420T125110Z
LAST-MODIFIED:20260420T125246Z
UID:5288-1784592000-1785023999@bushkill.org
SUMMARY:Plainfield Farmers’ Fair
DESCRIPTION:
URL:https://bushkill.org/event/plainfield-farmers-fair/
LOCATION:Plainfield Township Farmers’ Grove\, 1281 Bangor Rd\, Nazareth\, PA\, 18064\, United States
ATTACH;FMTTYPE=image/png:https://bushkill.org/wp-content/uploads/2026/04/plainfield-farmers-fair.png
END:VEVENT
BEGIN:VEVENT
DTSTART;TZID=America/New_York:20261010T120000
DTEND;TZID=America/New_York:20261010T160000
DTSTAMP:20260423T045501
CREATED:20260420T130056Z
LAST-MODIFIED:20260421T131137Z
UID:5295-1791633600-1791648000@bushkill.org
SUMMARY:Tatamy Fall Festival
DESCRIPTION:
URL:https://bushkill.org/event/tatamy-fall-festival/
LOCATION:Braden Park\, Tatamy\, 3800 Bushkill Dr\, Tatamy\, PA\, 18040\, United States
END:VEVENT
END:VCALENDAR